Workbook

Sheet Sheet1
A1: Student Name | E1: Student ID:
A2: The stock of your choice by instruction: | F2: =E4 -> Microsoft
E3: Stock
A4: Year | B4: T-Bills | C4: T-bonds | E4: Microsoft | F4: Deere | H4: Question 1
A5: 1990 | B5: 7.81 | C5: 6.872 | E5: 72.988426 | F5: -21.246738 | I5: T-Bills | J5: T-bonds | K5: Stock
A6: 1991 | B6: 5.6 | C6: 17.9336 | E6: 121.76079 | F6: 6.514507 | H6: Mean | I6: =AVERAGE(B5:B31) -> 2.8632704 | J6: =AVERAGE(C5:C31) -> 6.700337 | K6: =AVERAGE(E5:E31) -> 28.418112
A7: 1992 | B7: 3.51 | C7: 9.0548 | E7: 15.112329 | F7: -4.6317819 | H7: Std Dev (σ) | I7: =_xlfn.STDEV.S(B5:B31) -> 2.3900989 | J7: =_xlfn.STDEV.S(C5:C31) -> 8.3795789 | K7: =_xlfn.STDEV.S(E5:E31) -> 43.49147
A8: 1993 | B8: 2.9 | C8: 13.4198 | E8: -5.5637294 | F8: 75.397142
A9: 1994 | B9: 3.9 | C9: -6.4083 | E9: 51.628062 | F9: -7.9399479 | H9: Question 2
A10: 1995 | B10: 5.6 | C10: 23.9541 | E10: 43.558224 | F10: 78.471823 | J10: T-bonds | K10: Stock
A11: 1996 | B11: 5.21 | C11: 0.9946 | E11: 88.319126 | F11: 18.368687 | H11: Risk Premium | J11: =J6-$I$6 -> 3.8370667 | K11: =K6-$I$6 -> 25.554842
A12: 1997 | B12: 5.26 | C12: 11.312 | E12: 56.429646 | F12: 46.255514 | H12: Sharpe Ratio | J12: =J11/J7 -> 0.45790686 | K12: =K11/K7 -> 0.58758284
A13: 1998 | B13: 4.86 | C13: 13.094 | E13: 114.60359 | F13: -42.494468
A14: 1999 | B14: 4.68 | C14: -8.4734 | E14: 68.364109 | F14: 35.151055 | H14: Question 3
A15: 2000 | B15: 5.89 | C15: 14.4891 | E15: -62.847989 | F15: 8.165293 | H15: The correlation
A16: 2001 | B16: 3.7786 | C16: 4.0302 | E16: 52.7378 | F16: -2.5422847 | H16: between T-bonds and stock | K16: =CORREL(C5:C31,E5:E31) -> -0.21044937
A17: 2002 | B17: 1.6339 | C17: 14.6641 | E17: -21.962269 | F17: 7.107995
A18: 2003 | B18: 1.0182 | C18: 1.2778 | E18: 6.8164968 | F18: 44.60718
A19: 2004 | B19: 1.2005 | C19: 5.1862 | E19: 9.1281125 | F19: 16.23089
A20: 2005 | B20: 2.9633 | C20: 3.103 | E20: -0.93823479 | F20: -6.7808815
A21: 2006 | B21: 4.7855 | C21: 2.2713 | E21: 15.839327 | F21: 42.436719
A22: 2007 | B22: 4.6747 | C22: 9.6431 | E22: 20.842879 | F22: 99.026718
A23: 2008 | B23: 1.4742 | C23: 17.6664 | E23: -44.385614 | F23: -58.248899
A24: 2009 | B24: 0.0966 | C24: -5.8278 | E24: 60.467168 | F24: 45.189865
A25: 2010 | B25: 0.1216 | C25: 7.4457 | E25: -6.5246084 | F25: 56.463199
A26: 2011 | B26: 0.0428 | C26: 16.6015 | E26: -4.5156902 | F26: -5.079743
A27: 2012 | B27: 0.0565 | C27: 3.5862 | E27: 5.798868 | F27: 14.275063
A28: 2013 | B28: 0.0277 | C28: -6.9025 | E28: 44.298013 | F28: 8.1909228
... A31: 2016 | B31: 0.1886 | C31: 0.7039 | E31: 15.07774 | F31: 39.208082

Sheet Sheet2
A1: Question 4: Please fill in the following table to calculate the expected return and standard deviation of
A2: the portfolio between the stock and the T-bonds.
A4: Note: the inputs for the stock and the T-bills (in row 9) come from question 1 and 3.
A6: Question 5: Please fill in the Sharpe ratio in column F.
A8: The investment opportunity set with the stock and the T-bill.
C9: Input Data
A10: E(rS) | B10: E(rB) | C10: sS | D10: sB | E10: rBS
A12: Portfolio Weights | C12: Expected Return, E(rP) | E12: Std Dev | F12: Sharpe Ratio
A13: wS = 1–wB | B13: wB | C13: Col A*A3 + Col B*B3 | E13: Equation 6.6
A14: 0 | B14: 1 | C14: =(A14*Sheet1!$K$6)+(B14*Sheet1!$J$6) -> 6.700337 | E14: =SQRT(((A14^2)*(Sheet1!$K$7^2))+((B14^2)*(Sheet1!$J$7^2))+(2*A14*B14*Sheet1!$K$16*Sheet1!$K$7*Sheet1!$J$7)) -> 8.3795789 | F14: =(C14-Sheet1!$I$6)/Sheet2!E14 -> 0.45790686
A15: 0.05 | B15: 0.95 | C15: =(A15*Sheet1!$K$6)+(B15*Sheet1!$J$6) -> 7.7862258 | E15: =SQRT(((A15^2)*(Sheet1!$K$7^2))+((B15^2)*(Sheet1!$J$7^2))+(2*A15*B15*Sheet1!$K$16*Sheet1!$K$7*Sheet1!$J$7)) -> 7.7983191 | F15: =(C15-Sheet1!$I$6)/Sheet2!E15 -> 0.63128417
A16: 0.1 | B16: 0.9 | C16: =(A16*Sheet1!$K$6)+(B16*Sheet1!$J$6) -> 8.8721145 | E16: =SQRT(((A16^2)*(Sheet1!$K$7^2))+((B16^2)*(Sheet1!$J$7^2))+(2*A16*B16*Sheet1!$K$16*Sheet1!$K$7*Sheet1!$J$7)) -> 7.8731067 | F16: =(C16-Sheet1!$I$6)/Sheet2!E16 -> 0.76321132
A17: 0.15 | B17: 0.85 | C17: =(A17*Sheet1!$K$6)+(B17*Sheet1!$J$6) -> 9.9580033 | E17: =SQRT(((A17^2)*(Sheet1!$K$7^2))+((B17^2)*(Sheet1!$J$7^2))+(2*A17*B17*Sheet1!$K$16*Sheet1!$K$7*Sheet1!$J$7)) -> 8.586817 | F17: =(C17-Sheet1!$I$6)/Sheet2!E17 -> 0.82623549
A18: 0.2 | B18: 0.8 | C18: =(A18*Sheet1!$K$6)+(B18*Sheet1!$J$6) -> 11.043892 | E18: =SQRT(((A18^2)*(Sheet1!$K$7^2))+((B18^2)*(Sheet1!$J$7^2))+(2*A18*B18*Sheet1!$K$16*Sheet1!$K$7*Sheet1!$J$7)) -> 9.8008485 | F18: =(C18-Sheet1!$I$6)/Sheet2!E18 -> 0.83468504
A19: 0.25 | B19: 0.75 | C19: =(A19*Sheet1!$K$6)+(B19*Sheet1!$J$6) -> 12.129781 | E19: =SQRT(((A19^2)*(Sheet1!$K$7^2))+((B19^2)*(Sheet1!$J$7^2))+(2*A19*B19*Sheet1!$K$16*Sheet1!$K$7*Sheet1!$J$7)) -> 11.355854 | F19: =(C19-Sheet1!$I$6)/Sheet2!E19 -> 0.81601174
A20: 0.3 | B20: 0.7 | C20: =(A20*Sheet1!$K$6)+(B20*Sheet1!$J$6) -> 13.21567 | E20: =SQRT(((A20^2)*(Sheet1!$K$7^2))+((B20^2)*(Sheet1!$J$7^2))+(2*A20*B20*Sheet1!$K$16*Sheet1!$K$7*Sheet1!$J$7)) -> 13.131253 | F20: =(C20-Sheet1!$I$6)/Sheet2!E20 -> 0.78837861
A21: 0.35 | B21: 0.65 | C21: =(A21*Sheet1!$K$6)+(B21*Sheet1!$J$6) -> 14.301558 | E21: =SQRT(((A21^2)*(Sheet1!$K$7^2))+((B21^2)*(Sheet1!$J$7^2))+(2*A21*B21*Sheet1!$K$16*Sheet1!$K$7*Sheet1!$J$7)) -> 15.049245 | F21: =(C21-Sheet1!$I$6)/Sheet2!E21 -> 0.76005725
A22: 0.4 | B22: 0.6 | C22: =(A22*Sheet1!$K$6)+(B22*Sheet1!$J$6) -> 15.387447 | E22: =SQRT(((A22^2)*(Sheet1!$K$7^2))+((B22^2)*(Sheet1!$J$7^2))+(2*A22*B22*Sheet1!$K$16*Sheet1!$K$7*Sheet1!$J$7)) -> 17.061809 | F22: =(C22-Sheet1!$I$6)/Sheet2!E22 -> 0.73404739
A23: 0.45 | B23: 0.55 | C23: =(A23*Sheet1!$K$6)+(B23*Sheet1!$J$6) -> 16.473336 | E23: =SQRT(((A23^2)*(Sheet1!$K$7^2))+((B23^2)*(Sheet1!$J$7^2))+(2*A23*B23*Sheet1!$K$16*Sheet1!$K$7*Sheet1!$J$7)) -> 19.139135 | F23: =(C23-Sheet1!$I$6)/Sheet2!E23 -> 0.71111183
A24: 0.5 | B24: 0.5 | C24: =(A24*Sheet1!$K$6)+(B24*Sheet1!$J$6) -> 17.559225 | E24: =SQRT(((A24^2)*(Sheet1!$K$7^2))+((B24^2)*(Sheet1!$J$7^2))+(2*A24*B24*Sheet1!$K$16*Sheet1!$K$7*Sheet1!$J$7)) -> 21.262249 | F24: =(C24-Sheet1!$I$6)/Sheet2!E24 -> 0.6911759
A25: 0.55 | B25: 0.45 | C25: =(A25*Sheet1!$K$6)+(B25*Sheet1!$J$6) -> 18.645113 | E25: =SQRT(((A25^2)*(Sheet1!$K$7^2))+((B25^2)*(Sheet1!$J$7^2))+(2*A25*B25*Sheet1!$K$16*Sheet1!$K$7*Sheet1!$J$7)) -> 23.418701 | F25: =(C25-Sheet1!$I$6)/Sheet2!E25 -> 0.67389916
... A34: 1 | B34: 0 | C34: =(A34*Sheet1!$K$6)+(B34*Sheet1!$J$6) -> 28.418112 | E34: =SQRT(((A34^2)*(Sheet1!$K$7^2))+((B34^2)*(Sheet1!$J$7^2))+(2*A34*B34*Sheet1!$K$16*Sheet1!$K$7*Sheet1!$J$7)) -> 43.49147 | F34: =(C34-Sheet1!$I$6)/Sheet2!E34 -> 0.58758284
A37: Question 6
A38: What is the maximal Sharpe Ratio for the portfolio?
A39: =MAX(F14:F34) -> 0.83468504
A41: What is the proportion in the stock and the T-bills to achieve the max Sharpe ratio?
B42: weight
A43: Stock | B43: =INDEX(A14:A34,MATCH($A$39,$F$14:$F$34,)) -> 0.2
A44: T-bonds | B44: =INDEX(B14:B34,MATCH($A$39,$F$14:$F$34,)) -> 0.8
